BEGIN:VCALENDAR
VERSION:2.0
PRODID:-//SV OG Tespe - ECPv6.8.1//NONSGML v1.0//EN
CALSCALE:GREGORIAN
METHOD:PUBLISH
X-WR-CALNAME:SV OG Tespe
X-ORIGINAL-URL:https://svogtespe.de
X-WR-CALDESC:Veranstaltungen für SV OG Tespe
REFRESH-INTERVAL;VALUE=DURATION:PT1H
X-Robots-Tag:noindex
X-PUBLISHED-TTL:PT1H
BEGIN:VTIMEZONE
TZID:Europe/Berlin
BEGIN:DAYLIGHT
TZOFFSETFROM:+0100
TZOFFSETTO:+0200
TZNAME:CEST
DTSTART:20220327T010000
END:DAYLIGHT
BEGIN:STANDARD
TZOFFSETFROM:+0200
TZOFFSETTO:+0100
TZNAME:CET
DTSTART:20221030T010000
END:STANDARD
END:VTIMEZONE
BEGIN:VEVENT
DTSTART;VALUE=DATE:20220313
DTEND;VALUE=DATE:20220314
DTSTAMP:20260422T123558
CREATED:20211227T195642Z
LAST-MODIFIED:20220103T205549Z
UID:493-1647129600-1647215999@svogtespe.de
SUMMARY:OG Prüfung
DESCRIPTION:Richter Andreas Bölke
URL:https://svogtespe.de/event/og-pruefung/
LOCATION:SV OG Tespe\, Am Deich 26\, Tespe\, Niedersachsen\, 21395\, Deutschland
CATEGORIES:Prüfung
ORGANIZER;CN="SV OG Tespe":MAILTO:post@svogtespe.de
END:VEVENT
BEGIN:VEVENT
DTSTART;TZID=Europe/Berlin:20220319T080000
DTEND;TZID=Europe/Berlin:20220319T170000
DTSTAMP:20260422T123558
CREATED:20220115T114024Z
LAST-MODIFIED:20220115T163311Z
UID:565-1647676800-1647709200@svogtespe.de
SUMMARY:RH Trümmertraining
DESCRIPTION:Das Training findet in Wittstock/Dosse statt
URL:https://svogtespe.de/event/rh-truemmerraining/
LOCATION:Niedersachsen
CATEGORIES:Training
ORGANIZER;CN="SV OG Tespe":MAILTO:post@svogtespe.de
END:VEVENT
END:VCALENDAR