BEGIN:VCALENDAR
VERSION:2.0
PRODID:-//SV OG Tespe - ECPv6.8.1//NONSGML v1.0//EN
CALSCALE:GREGORIAN
METHOD:PUBLISH
X-WR-CALNAME:SV OG Tespe
X-ORIGINAL-URL:https://svogtespe.de
X-WR-CALDESC:Veranstaltungen für SV OG Tespe
REFRESH-INTERVAL;VALUE=DURATION:PT1H
X-Robots-Tag:noindex
X-PUBLISHED-TTL:PT1H
BEGIN:VTIMEZONE
TZID:Europe/Berlin
BEGIN:DAYLIGHT
TZOFFSETFROM:+0100
TZOFFSETTO:+0200
TZNAME:CEST
DTSTART:20220327T010000
END:DAYLIGHT
BEGIN:STANDARD
TZOFFSETFROM:+0200
TZOFFSETTO:+0100
TZNAME:CET
DTSTART:20221030T010000
END:STANDARD
END:VTIMEZONE
BEGIN:VEVENT
DTSTART;VALUE=DATE:20220903
DTEND;VALUE=DATE:20220905
DTSTAMP:20260421T102222
CREATED:20211227T200103Z
LAST-MODIFIED:20220614T075156Z
UID:497-1662163200-1662335999@svogtespe.de
SUMMARY:Landesgruppenausscheid LG01 Rettungshunde 2022
DESCRIPTION:Landesgruppenausscheid Rettungshunde der LG01 2022\n  \nBeginn: Samstag\, 03.09.2022 um 09.00 Uhr ( Auslosung ) \nSonntag\, 04.09.2022 um 09.00 Uhr \n  \nOrt:\nVereinsgelände der SV OG Tespe\nAm Deich 26\, 21395 Tespe \n  \nGeführt wird in den Prüfungsstufen:\nFläche\, Fährte\, Mantrailing und Spürhund \n  \nLeistungsrichter:\nHeiko Grube \n  \nMeldestelle / Prüfungsleitung\nTanja Zimmermann \nTel. 0172 4594183 \nEmail: post@svogtespe.de \nMeldeschluss:\n28.08.2022 \n  \nPDF Download:\nLandesgruppenausscheid Rettungshunde 2022
URL:https://svogtespe.de/event/landesgruppenausscheid-rh/
LOCATION:SV OG Tespe\, Am Deich 26\, Tespe\, Niedersachsen\, 21395\, Deutschland
CATEGORIES:Ausscheid
ATTACH;FMTTYPE=image/png:https://svogtespe.de/wp-content/uploads/2021/12/Landesgruppenausscheid-Rettungshunde-2022.png
ORGANIZER;CN="SV OG Tespe":MAILTO:post@svogtespe.de
END:VEVENT
END:VCALENDAR