BEGIN:VCALENDAR
VERSION:2.0
PRODID:-//SV OG Tespe - ECPv6.8.1//NONSGML v1.0//EN
CALSCALE:GREGORIAN
METHOD:PUBLISH
X-WR-CALNAME:SV OG Tespe
X-ORIGINAL-URL:https://svogtespe.de
X-WR-CALDESC:Veranstaltungen für SV OG Tespe
REFRESH-INTERVAL;VALUE=DURATION:PT1H
X-Robots-Tag:noindex
X-PUBLISHED-TTL:PT1H
BEGIN:VTIMEZONE
TZID:Europe/Berlin
BEGIN:DAYLIGHT
TZOFFSETFROM:+0100
TZOFFSETTO:+0200
TZNAME:CEST
DTSTART:20240331T010000
END:DAYLIGHT
BEGIN:STANDARD
TZOFFSETFROM:+0200
TZOFFSETTO:+0100
TZNAME:CET
DTSTART:20241027T010000
END:STANDARD
END:VTIMEZONE
BEGIN:VEVENT
DTSTART;VALUE=DATE:20241026
DTEND;VALUE=DATE:20241027
DTSTAMP:20260419T201241
CREATED:20240731T202707Z
LAST-MODIFIED:20240731T203037Z
UID:620-1729900800-1729987199@svogtespe.de
SUMMARY:OG Prüfung mit Steffie Meier
DESCRIPTION:
URL:https://svogtespe.de/event/og-pruefung-mit-steffie-meier/
LOCATION:SV OG Tespe\, Am Deich 26\, Tespe\, Niedersachsen\, 21395\, Deutschland
CATEGORIES:Prüfung
ORGANIZER;CN="SV OG Tespe":MAILTO:post@svogtespe.de
END:VEVENT
END:VCALENDAR